BEGIN:VCALENDAR
VERSION:2.0
PRODID:-//FFV - Fédération Française des Volailles - ECPv6.15.20//NONSGML v1.0//EN
CALSCALE:GREGORIAN
METHOD:PUBLISH
X-WR-CALNAME:FFV - Fédération Française des Volailles
X-ORIGINAL-URL:https://ffv-volaille.fr
X-WR-CALDESC:Évènements pour FFV - Fédération Française des Volailles
REFRESH-INTERVAL;VALUE=DURATION:PT1H
X-Robots-Tag:noindex
X-PUBLISHED-TTL:PT1H
BEGIN:VTIMEZONE
TZID:Europe/Paris
BEGIN:DAYLIGHT
TZOFFSETFROM:+0100
TZOFFSETTO:+0200
TZNAME:CEST
DTSTART:20250330T010000
END:DAYLIGHT
BEGIN:STANDARD
TZOFFSETFROM:+0200
TZOFFSETTO:+0100
TZNAME:CET
DTSTART:20251026T010000
END:STANDARD
BEGIN:DAYLIGHT
TZOFFSETFROM:+0100
TZOFFSETTO:+0200
TZNAME:CEST
DTSTART:20260329T010000
END:DAYLIGHT
BEGIN:STANDARD
TZOFFSETFROM:+0200
TZOFFSETTO:+0100
TZNAME:CET
DTSTART:20261025T010000
END:STANDARD
BEGIN:DAYLIGHT
TZOFFSETFROM:+0100
TZOFFSETTO:+0200
TZNAME:CEST
DTSTART:20270328T010000
END:DAYLIGHT
BEGIN:STANDARD
TZOFFSETFROM:+0200
TZOFFSETTO:+0100
TZNAME:CET
DTSTART:20271031T010000
END:STANDARD
END:VTIMEZONE
BEGIN:VEVENT
DTSTART;VALUE=DATE:20261024
DTEND;VALUE=DATE:20261026
DTSTAMP:20260422T015956
CREATED:20260325T135959Z
LAST-MODIFIED:20260325T140645Z
UID:11485-1792800000-1792972799@ffv-volaille.fr
SUMMARY:99° EXPO NATIONALE D'AVICULTURE DE NEVERS
DESCRIPTION:Patronage FFV \nOrganisation : AVICULTURE NIVERNAIS MORVAN\nContact : Denis GEOFFROY\nAdresse : 9 les terres blanches 58160 SAUVIGNY LES BOIS\nTéléphone : 06.83.62.19.85\nEmail : geoffroy.denis@orange.fr\nSite Web : https://aviculture-nievre.wixsite.com \nDescription :  \n\nChampionnat nationaux volailles : VORWERK & LAKENVERLDER + ARAUCANA + RACES BRETONNES ( JANZE\, Coucou de Rennes)\nChampionnat nationaux lapins : CELEC + BELEIRS\nChampionnat national pigeons : GIER\nChampionnat régional lapin : REX\nHALL EXPO NEVERS AGORA rue Amiral Jaquinot\n\nNb de régionaux\, nationaux : 3 \nCourse au point ? : oui \nPatronage FFV : Oui
URL:https://ffv-volaille.fr/expo_avicole/99-expo-nationale-daviculture-de-nevers/
LOCATION:Nevers\, Rue Amiral Jacquinot\, Nevers\, 58000\, France
END:VEVENT
END:VCALENDAR